BEGIN:VCALENDAR
PRODID:NingEventWidget-v1
VERSION:2.0
METHOD:PUBLISH
BEGIN:VEVENT
UID:6442157:Event:174006
DTSTAMP:20260423T000542Z
SUMMARY:Halloween Dance with Tommy Mulvihill
DESCRIPTION:Halloween Dance with Tommy Mulvihill  Prizes for Best Cost
 ume, Raffles Saturday, October 31, 2015 8:30 PM\n(Costumes requested, 
 not required) $20 Per Person   Chaired By: Patrick Kerins & Rosemarie
  Byrne\n\nFor more information visit https://thewildgeese.irish/events
 /halloween-dance-with-tommy-mulvihill
DTSTART:20151101T013000Z
DTEND:20151101T050000Z
CATEGORIES:"halloween party"
LOCATION:Irish American Society of Nassau, Suffolk, & Queens
WEBSITE:http://www.irishamericansoc.com/
URL:http://www.irishamericansoc.com/
CONTACT:516-742-8080
ORGANIZER:Irish American Society of Nassau, Suffolk, & Queens
ATTACH;FMTTYPE="image/jpeg":http://storage.ning.com/topology/rest/1.0/
 file/get/122510545?profile=original
ATTENDEE;ROLE=REQ-PARTICIPANT;PARTSTAT=ACCEPTED;RSVP=TRUE;CN="William 
 Lee":https://thewildgeese.irish/profile/WilliamLee
END:VEVENT
END:VCALENDAR
