BEGIN:VCALENDAR
PRODID:NingEventWidget-v1
VERSION:2.0
METHOD:PUBLISH
BEGIN:VEVENT
UID:6442157:Event:174961
DTSTAMP:20260421T165908Z
SUMMARY:HAIR STYLING AND IRISH IMMIGRANTS
DESCRIPTION:As the flood of Irish immigrants reached America, they fac
 ed another challenge—how to fit in to this new nation.  One of the 
 many adjustments these mostly rural Irish made was to manipulate their
  appearances to conform to the style of the new land.  This manipulat
 ion is the subject of the Irish Cultural Society meeting on December 9
 .  The meeting will adjourn at 7:30 p.m. in the Garden City Library, 
 60 Seventh Street, across the street from the Garden City Hotel.  The
  meeting is free and open to the public.\nThe speaker will be Dr. Mere
 dith Linn, a historical archeologist and an Assistant Professor in Bar
 nard’s Urban Studies Program.  Her talk will focus particularly upo
 n how some Irish immigrants in NYC utilized cosmetic hair preparations
  to style new urban Irish American identities.  Dr. Linn holds a B.A.
  degree from Swarthmore College, an M.A. from the University of Chicag
 o, and a Ph.D. from Columbia University.  Her dissertation will soon 
 be published as a book.  Dr. Linn has published articles in Historica
 l Archeology and in Papers from the Institute of Archeology.  She is 
 also a member of the Seneca Valley Project team studying the Irish and
  African-American community that existed in what is now Central Park.\
 n \n\n\n\nFor more information visit https://thewildgeese.irish/event
 s/hair-styling-and-irish-immigrants
DTSTART:20151210T013000Z
DTEND:20151210T030000Z
CATEGORIES:lecture
LOCATION:Garden City Library
WEBSITE:http://irish-society.org
URL:http://irish-society.org
CONTACT:516-488-1353
ORGANIZER;CN="John M. Walsh":https://thewildgeese.irish/profile/JohnMW
 alsh
ATTACH;FMTTYPE="image/jpeg":http://storage.ning.com/topology/rest/1.0/
 file/get/122510739?profile=original
ATTENDEE;ROLE=REQ-PARTICIPANT;PARTSTAT=ACCEPTED;RSVP=TRUE;CN="John M. 
 Walsh":https://thewildgeese.irish/profile/JohnMWalsh
ATTENDEE;ROLE=REQ-PARTICIPANT;PARTSTAT=ACCEPTED;RSVP=TRUE;CN="Gerry Re
 gan":https://thewildgeese.irish/profile/ger_regan
ATTENDEE;ROLE=REQ-PARTICIPANT;PARTSTAT=TENTATIVE;RSVP=TRUE;CN="John An
 thony Brennan":https://thewildgeese.irish/profile/johnABrennan
END:VEVENT
END:VCALENDAR
