BEGIN:VCALENDAR
PRODID:NingEventWidget-v1
VERSION:2.0
METHOD:PUBLISH
BEGIN:VEVENT
UID:6442157:Event:200324
DTSTAMP:20260422T015334Z
SUMMARY:GENELOGY AT IRISH SOCIETY MEETING
DESCRIPTION:GENEALOGY AT IRISH MEETING\n\nThe Irish Cultural Society a
 nnounces one of its most popular topics, genealogy, as its subject for
  its October meeting.  The meeting is on Wednesday, October 12 at 7:3
 0 p.m. in the Garden City Casino, 51 Cathedral Avenue, corner of Sixth
  Street, adjacent to the east bound platform of the LIRR Garden City S
 tation.  The meeting is free and open to the public.\nThe speaker wil
 l be Kathleen McGee who will speak about how to begin tracing Irish fa
 mily roots.\nKathleen is the moderator of the popular Genealogy Tips a
 nd Tricks classes presented before the Irish Family History Forum meet
 ings.  She has been a volunteer family history librarian at the Plain
 view Family History Center for over twenty years. Ms. McGee is a board
  member and program coordinator at the Genealogy Federation of Long Is
 land.  Kathleen is a frequent speaker at libraries on Long Island and
  works with Scouts on their family history badges.\nA graduate of St. 
 John’s University, Kathleen worked in the telecommunications industr
 y before retiring to devote more time to genealogy.  Attendees should
  come early.  Genealogy and Ms. McGee draw crowds.\nAt the meeting, P
 resident Clare Curtin will distribute tickets to those attending the t
 heater trip to see Finian’s Rainbow.\n\n\n\nFor more information vis
 it https://thewildgeese.irish/events/genelogy-at-irish-society-meeting
DTSTART:20161013T003000Z
DTEND:20161013T020000Z
CATEGORIES:workshop
LOCATION:Garden City Casino
WEBSITE:http://irish-society.org
URL:http://irish-society.org
CONTACT:516-488-1353
ORGANIZER;CN="John M. Walsh":https://thewildgeese.irish/profile/JohnMW
 alsh
ATTACH;FMTTYPE="image/jpeg":http://storage.ning.com/topology/rest/1.0/
 file/get/122515308?profile=original
ATTENDEE;ROLE=REQ-PARTICIPANT;PARTSTAT=ACCEPTED;RSVP=TRUE;CN="John M. 
 Walsh":https://thewildgeese.irish/profile/JohnMWalsh
END:VEVENT
END:VCALENDAR
