BEGIN:VCALENDAR
PRODID:NingEventWidget-v1
VERSION:2.0
METHOD:PUBLISH
BEGIN:VEVENT
UID:6442157:Event:65466
DTSTAMP:20260423T164006Z
SUMMARY:Friends of Irish Freedom Christmas Drive
DESCRIPTION:ANNUAL  CHRISTMAS DRIVE FOR IRISH REPUBLICAN PRISONERS DE
 PENDENTS.\nFor those who claim to love Ireland, to love freedom, to ye
 arn to see Ireland free..... this is an important & worthy Cause.  It
  has been a tradition in America to support Irish Republican Prisoners
  & their Dependents since before the 1916 Rebellion.\nNo donation is t
 oo small!  Donations can be sent to:\nFriends Of Irish Freedom\nP.O. 
 Box 210-Riverdale Station\nRiverdale, NY 10471\nPhone: 718-601-1550\n\
 nFor more information visit https://thewildgeese.irish/events/friends-
 of-irish-freedom-1
DTSTART:20131202T000000Z
DTEND:20140101T010000Z
CATEGORIES:annual, christmas, fundraiser
LOCATION:This is a Christmas Drive by mail.....
WEBSITE:
URL:
CONTACT:718-601-1550
ORGANIZER;CN="Friends Of Irish Freedom Inc.":https://thewildgeese.iris
 h/profile/FriendsOfIrishFreedomInc
ATTACH;FMTTYPE="image/jpeg":http://storage.ning.com/topology/rest/1.0/
 file/get/122484697?profile=original
ATTENDEE;ROLE=REQ-PARTICIPANT;PARTSTAT=ACCEPTED;RSVP=TRUE;CN="Friends 
 Of Irish Freedom Inc.":https://thewildgeese.irish/profile/FriendsOfIri
 shFreedomInc
END:VEVENT
END:VCALENDAR
