BEGIN:VCALENDAR
PRODID:NingEventWidget-v1
VERSION:2.0
METHOD:PUBLISH
BEGIN:VEVENT
UID:6442157:Event:119911
DTSTAMP:20260419T095302Z
SUMMARY:Forum on Irish Freedom & Unity
DESCRIPTION:GUEST SPEAKERS FROM IRELAND!\nSponsored by Friends Of Iris
 h Freedom in conjunction with The 1916 Societies in Ireland.\nAOH Div.
  #87 Port Richmond, Philadelphia, PA on 4th October 2014 @2pm.\n\n\n\n
 For more information visit https://thewildgeese.irish/events/forum-on-
 irish-freedom-unity
DTSTART:20141004T190000Z
DTEND:20141004T210000Z
CATEGORIES:discussion, forums, in, philadelphia, new, york, "&", bosto
 n
LOCATION:AOH Hall, 2171 Wakeling St., Philadelphia, PA
WEBSITE:
URL:
CONTACT:
ORGANIZER;CN="Friends Of Irish Freedom Inc.":https://thewildgeese.iris
 h/profile/FriendsOfIrishFreedomInc
ATTACH;FMTTYPE="image/jpeg":http://storage.ning.com/topology/rest/1.0/
 file/get/122495444?profile=original
ATTENDEE;ROLE=REQ-PARTICIPANT;PARTSTAT=ACCEPTED;RSVP=TRUE;CN="Friends 
 Of Irish Freedom Inc.":https://thewildgeese.irish/profile/FriendsOfIri
 shFreedomInc
ATTENDEE;ROLE=REQ-PARTICIPANT;PARTSTAT=TENTATIVE;RSVP=TRUE;CN="Gerry R
 egan":https://thewildgeese.irish/profile/ger_regan
END:VEVENT
END:VCALENDAR
