BEGIN:VCALENDAR
PRODID:NingEventWidget-v1
VERSION:2.0
METHOD:PUBLISH
BEGIN:VEVENT
UID:6442157:Event:198255
DTSTAMP:20260422T001606Z
SUMMARY:Finian's Rainbow
DESCRIPTION:Our most loved musical returns to the Irish Rep stage this
  fall, twelve years after it was first revived to great acclaim. Tony-
 nominee Melissa Errico will reprise her role as “Sharon” as we cel
 ebrate our homecoming in true Irish style!\nThe groundbreaking 1947 mu
 sical follows an Irishman who steals a feisty leprechaun’s pot of go
 ld and escapes with his daughter, Sharon, to Missitucky, a mythical re
 gion in the United States that is part of the Jim Crow South. The daug
 hter and the sprite each find romance with others, but also encounter 
 bigotry, economic disparity and cultural injustice.\n\nFor more inform
 ation visit https://thewildgeese.irish/events/finian-s-rainbow
DTSTART:20161026T200000Z
DTEND:20161218T230000Z
CATEGORIES:theater, musical
LOCATION:The Irish Repertory Theatre
WEBSITE:https://irishrep.org/show/2016-2017-season/finians-rainbow/
URL:https://irishrep.org/show/2016-2017-season/finians-rainbow/
CONTACT:212.727.2737
ORGANIZER;CN="The Irish Repertory Theatre":https://thewildgeese.irish/
 profile/TheIrishRepertoryTheatre
ATTACH;FMTTYPE="image/jpeg":http://storage.ning.com/topology/rest/1.0/
 file/get/122514831?profile=original
ATTENDEE;ROLE=REQ-PARTICIPANT;PARTSTAT=ACCEPTED;RSVP=TRUE;CN="The Iris
 h Repertory Theatre":https://thewildgeese.irish/profile/TheIrishRepert
 oryTheatre
END:VEVENT
END:VCALENDAR
