BEGIN:VCALENDAR
PRODID:NingEventWidget-v1
VERSION:2.0
METHOD:PUBLISH
BEGIN:VEVENT
UID:6442157:Event:190646
DTSTAMP:20260421T034925Z
SUMMARY:Finian's Rainbow in Concert
DESCRIPTION:The groundbreaking 1947 musical follows an Irishman who st
 eals a feisty leprechaun’s pot of gold and escapes with his daughter
 , Sharon, to Missitucky, a mythical region in the United States that i
 s part of the Jim Crow South.  The daughter and the sprite each find 
 romance with others, but also encounter bigotry, economic disparity an
 d cultural injustice.The score is spiked with such popular show tunes 
 as “Old Devil Moon,” “How Are Things in Glocca Morra?” and “
 Look to the Rainbow,” plus spicy comic and satiric songs such as “
 When I’m Not Near the Girl I Love,” and “When the Idle Poor Beco
 me the Idle Rich.”Irish Rep cast members Melissa Errico, Malcolm Get
 s, David Staller and Max Von Essen reprise their original roles and ar
 e joined by Jim Norton as Finian and Megan Fairchild from New York Cit
 y Ballet as Susan the Silent, plus a full chorus and a cast of Broadwa
 y stars!\n\nFor more information visit https://thewildgeese.irish/even
 ts/finian-s-rainbow-in-concert
DTSTART:20160614T000000Z
DTEND:20160614T013000Z
CATEGORIES:gala, performance
LOCATION:The Town Hall
WEBSITE:http://www.irishrep.org/gala2016.html
URL:http://www.irishrep.org/gala2016.html
CONTACT:2127272737
ORGANIZER:Irish Repertory Theatre
ATTACH;FMTTYPE="image/jpeg":http://storage.ning.com/topology/rest/1.0/
 file/get/122513603?profile=original
ATTENDEE;ROLE=REQ-PARTICIPANT;PARTSTAT=ACCEPTED;RSVP=TRUE;CN="The Iris
 h Repertory Theatre":https://thewildgeese.irish/profile/TheIrishRepert
 oryTheatre
END:VEVENT
END:VCALENDAR
