BEGIN:VCALENDAR
PRODID:NingEventWidget-v1
VERSION:2.0
METHOD:PUBLISH
BEGIN:VEVENT
UID:6442157:Event:142903
DTSTAMP:20260420T184409Z
SUMMARY:FIGHTING 69TH HISTORIAN TO SPEAK
DESCRIPTION:69TH REGIMENT HISTORIAN AT IRISH SOCIETY MEETING\nWhy is t
 he 69th Infantry Regiment, of the New York Army National Guard, so clo
 sely associated with the Irish? How did it get the name “Fighting Si
 xty-ninth?” When did it “invade” Garden City?  Those questions 
 and others about the storied unit of Corcoran, Meagher, Donovan, Duffy
  and Kilmer will be answered at the March 11 meeting of the Irish Cult
 ural Society.  The meeting convenes at 7:30 p.m. in the Garden City L
 ibrary, 60 Seventh Street, across the street from the Garden City Hote
 l.  This meeting is free and open to the public.\nThe speaker at the 
 meeting will be the 69th’s Regimental Historian, Bert Cunningham. Th
 e remarkable story of the 69th is one filled with more than 164 years 
 of action, color, and heroism.\nA former officer with the 69th, Mr. Cu
 nningham spent forty-three years in the field of marketing and public 
 relations on Long Island, and also served as an adjunct assistant prof
 essor at Hofstra University. Now, as a volunteer, he is part of the 69
 th’s Regimental Headquarters, which is charged with preserving the h
 istory, heraldry, artifacts and records of the 69th.  The evening wil
 l be a great way to prepare for St. Patrick’s Day!\nAt the meeting, 
 Society president Martin Kelly will invite the audience to participate
  in the Irish Festival on March 15 at Hofstra University.  This livel
 y day of song and dance starts at 11:00 a.m. and ends at 5:00 p.m. at 
 the Mack Sports and Exhibition Complex on the North Campus.\n    
                   \n\nFor more information visit ht
 tps://thewildgeese.irish/events/fighting-69th-historian-to-speak
DTSTART:20150312T003000Z
DTEND:20150312T020000Z
CATEGORIES:lecture, history
LOCATION:Garden City Public Library
WEBSITE:http://irish-society.org
URL:http://irish-society.org
CONTACT:516-488-1353
ORGANIZER;CN="Irish Cultural Society of GC":https://thewildgeese.irish
 /profile/IrishCulturalSocietyofGC
ATTACH;FMTTYPE="image/jpeg":http://storage.ning.com/topology/rest/1.0/
 file/get/122501023?profile=original
ATTENDEE;ROLE=REQ-PARTICIPANT;PARTSTAT=ACCEPTED;RSVP=TRUE;CN="Jack Kin
 g":https://thewildgeese.irish/profile/JackKing
ATTENDEE;ROLE=REQ-PARTICIPANT;PARTSTAT=ACCEPTED;RSVP=TRUE;CN="Irish Cu
 ltural Society of GC":https://thewildgeese.irish/profile/IrishCultural
 SocietyofGC
END:VEVENT
END:VCALENDAR
