BEGIN:VCALENDAR
PRODID:NingEventWidget-v1
VERSION:2.0
METHOD:PUBLISH
BEGIN:VEVENT
UID:6442157:Event:241636
DTSTAMP:20260419T175656Z
SUMMARY:Fenian Memorial Committee of America
DESCRIPTION:A memorial stone, honoring Father Patrick McCabe will be u
 nveiled and Fr. McCabe commemorated  by The Fenian Memorial Committee
  of America on Saturday, May 18, 2019 at St Mary's Cemetery outside Wa
 seca, Minnesota.  Fr. McCabe, a native son of Lough Gowna, Co. Cavan,
  was a secret hero in the escape from an Australian prison to America 
 of 7 Fenians, John Boyle O'Reilly and 6 other Fenians aboard the whale
 r, the Catalpa in 1876. He left Australia and made his way to the USA,
  settling in rural Minnesota to live out his days as a pastor.  Go to
  www.fenianmca.org for more information.\n\nFor more information visit
  https://thewildgeese.irish/events/fenian-memorial-committee-of-americ
 a
DTSTART:20190518T160000Z
DTEND:20190518T220000Z
CATEGORIES:remembering, the, "fenians:", father, patrick, mccabe
LOCATION:St Mary's Cemetery and Waseca Historical Society, Waseca, MN 
 USA
WEBSITE:
URL:
CONTACT:
ORGANIZER;CN="Fenian Memorial Committee":https://thewildgeese.irish/pr
 ofile/GeorgeThomasMcLaughlin
ATTACH;FMTTYPE="image/jpeg":
ATTENDEE;ROLE=REQ-PARTICIPANT;PARTSTAT=ACCEPTED;RSVP=TRUE;CN="Fenian M
 emorial Committee":https://thewildgeese.irish/profile/GeorgeThomasMcLa
 ughlin
END:VEVENT
END:VCALENDAR
