BEGIN:VCALENDAR
PRODID:NingEventWidget-v1
VERSION:2.0
METHOD:PUBLISH
BEGIN:VEVENT
UID:6442157:Event:185166
DTSTAMP:20260425T051959Z
SUMMARY:Donegal Association St. Patrick's Dinner Dance
DESCRIPTION:Please join us for our 120th Annual St Patrick's Day dinne
 r dance. We are pleased to honor Rosina Gallagher as Donegal Person of
  the Year and Eamon Gallagher as the recepient of the Willie Joe Cunni
 ngham award.\nTickets are $85 per person.\nMusic will be supplied by R
 umour Has It.\nCall Katie Barrett @ 718-326-1854, Kathleen O'Keefe @ 2
 01-339-3614 or Carol Brennan @ 845-596-0458 for reservations\n\nFor mo
 re information visit https://thewildgeese.irish/events/donegal-associa
 tion-st-patrick-s-dinner-dance
DTSTART:20160306T210000Z
DTEND:20160307T020000Z
CATEGORIES:"dinner dance"
LOCATION:Antun's of Queen's Village
WEBSITE:http://donegalny.org/
URL:http://donegalny.org/
CONTACT:718 326-1854
ORGANIZER:Donegal Association of New York
ATTACH;FMTTYPE="image/jpeg":http://storage.ning.com/topology/rest/1.0/
 file/get/122512576?profile=original
ATTENDEE;ROLE=REQ-PARTICIPANT;PARTSTAT=ACCEPTED;RSVP=TRUE;CN="William 
 Lee":https://thewildgeese.irish/profile/WilliamLee
END:VEVENT
END:VCALENDAR
