BEGIN:VCALENDAR
PRODID:NingEventWidget-v1
VERSION:2.0
METHOD:PUBLISH
BEGIN:VEVENT
UID:6442157:Event:185259
DTSTAMP:20260425T065650Z
SUMMARY:Division 3, N.Y. County: Hibernian of the Year
DESCRIPTION:J. Barney Ferguson Hibernian of the Year  Honoring James A
 . Hamilton, Esq.   COCKTAIL RECEPTION  Coogan’s Restaurant 4015 Broa
 dway (cor. 169th St.)  New York, NY 10032  Monday Evening, March 7, 20
 166:00 to 8:00 p.m. Tickets: $40 in advance $45 at the door  ... COMMI
 TTEE: Tom Mullany (917) 371-5026  Brian FitzPatrick (917) 971-2638 Edw
 ard Kneafsey (212) 569-3465  Tony Creaney (718) 548-3452 Jim Cuggy (71
 8) 651-3125 Tickets available at our website at  www.div3nycoaoh.org/ 
 William B. Burke Division 3  Ancient Order of Hibernians  Thomas Mulla
 ny – President 95 Park Terrace East, 2-G New York, NY 10034\n\nFor m
 ore information visit https://thewildgeese.irish/events/div-3-ny-count
 y-hibernian-of-the-year
DTSTART:20160308T000000Z
DTEND:20160308T020000Z
CATEGORIES:"award party"
LOCATION:Coogan's NYC
WEBSITE:http://www.coogans.com/
URL:http://www.coogans.com/
CONTACT:(917) 371-5026
ORGANIZER:William B Burk Division 3, New York County, AOH
ATTACH;FMTTYPE="image/jpeg":http://storage.ning.com/topology/rest/1.0/
 file/get/122512541?profile=original
ATTENDEE;ROLE=REQ-PARTICIPANT;PARTSTAT=ACCEPTED;RSVP=TRUE;CN="William 
 Lee":https://thewildgeese.irish/profile/WilliamLee
ATTENDEE;ROLE=REQ-PARTICIPANT;PARTSTAT=TENTATIVE;RSVP=TRUE;CN="Gerry R
 egan":https://thewildgeese.irish/profile/ger_regan
END:VEVENT
END:VCALENDAR
