BEGIN:VCALENDAR
PRODID:NingEventWidget-v1
VERSION:2.0
METHOD:PUBLISH
BEGIN:VEVENT
UID:6442157:Event:18009
DTSTAMP:20260424T042207Z
SUMMARY:david powell
DESCRIPTION:â™£August 24 Barbour County Fair, historic Philippi, WV\nÂ
   www.barbourcountyfair.com \nSaturday 1:30 p.m.\nFirst land battle of
  the Civil War, largest covered bridge in WV, Point Pleasant Road star
 ts high on the ridge-top, great views, then a long downhill curve to t
 he fairgrounds. Road MasterÂ  Bob Wilkins 304 457 1295.Â \nSingles Bow
 ling - In the Country of Ireland, road bowling is singles or doubles. 
 The West Virginia Irish Road Bowling Association bowls against highly 
 skilled bowlers from Boston and New York each year in the North Americ
 an Region Finals. To raise our game, the WVIRBA announces 2013 Singles
  Events on the morning of the team events (see 2013 Schedule www.wviri
 shroadbowling.com). Once 4 bowlers are pre-registered 3 days ahead of 
 the event, SINGLES COMPETITION IS ON! Bowlers also can register on the
  day of the event. There is an Entry Fee (discount for pre-registered 
 bowlers) and Prizes awarded to the top bowlers. Ladies and Gents invit
 ed to compete. Contact Kevin for same day registration time. To Pre-Re
 gister and for information, Kevin Smith 304-228-7928 or email at kgsmo
 othone@yahoo.com.\n\nFor more information visit https://thewildgeese.i
 rish/events/david-powell-9
DTSTART:20130824T050000Z
DTEND:20130825T045900Z
CATEGORIES:irish, road, bowling, -, sport
LOCATION:historic Philippi, West Virginia
WEBSITE:http://www.wvirishroadbowling.com
URL:http://www.wvirishroadbowling.com
CONTACT:202 387 1680
ORGANIZER;CN="david powell":https://thewildgeese.irish/profile/davidpo
 well
ATTACH;FMTTYPE="image/jpeg":
ATTENDEE;ROLE=REQ-PARTICIPANT;PARTSTAT=ACCEPTED;RSVP=TRUE;CN="david po
 well":https://thewildgeese.irish/profile/davidpowell
END:VEVENT
END:VCALENDAR
