BEGIN:VCALENDAR
PRODID:NingEventWidget-v1
VERSION:2.0
METHOD:PUBLISH
BEGIN:VEVENT
UID:6442157:Event:17768
DTSTAMP:20260423T194716Z
SUMMARY:Irish Road Bowling
DESCRIPTION:♣ July 27, 28 West Virginia State Championship Singles F
 inals, Ireland, WV\nThe top bowlers, men and women, from each of the t
 wo qualifiers, Pipestem Resort April 27 and 28 and Strawberry Festiv
 al May 18 and 19, will compete on Wildcat Road in Ireland. David Powe
 ll 202 387 1680, cell 202 905 1959.\nJuly 27 SATURDAY  Semifinals - No
 vice 1, Novice 2, Novice 3, Novice 4\nJuly 28 SUNDAY  Finals - Novice 
 1, Novice 2, Novice 3, Novice\n\nFor more information visit https://th
 ewildgeese.irish/events/david-powell-6
DTSTART:20130727T050000Z
DTEND:20130729T045900Z
CATEGORIES:irish, road, bowling, -, sport
LOCATION:Ireland, West Virginia
WEBSITE:http://www.wvirishroadbowling.com
URL:http://www.wvirishroadbowling.com
CONTACT:202 387 1680
ORGANIZER;CN="david powell":https://thewildgeese.irish/profile/davidpo
 well
ATTACH;FMTTYPE="image/jpeg":http://storage.ning.com/topology/rest/1.0/
 file/get/122477159?profile=original
ATTENDEE;ROLE=REQ-PARTICIPANT;PARTSTAT=ACCEPTED;RSVP=TRUE;CN="david po
 well":https://thewildgeese.irish/profile/davidpowell
END:VEVENT
END:VCALENDAR
