BEGIN:VCALENDAR
PRODID:NingEventWidget-v1
VERSION:2.0
METHOD:PUBLISH
BEGIN:VEVENT
UID:6442157:Event:17857
DTSTAMP:20260423T194716Z
SUMMARY:Irish Road Bowling
DESCRIPTION:♣July 20 Morgan County Fair, Cacapon State Park, Berkele
 y Springs, WV\nSaturday 11:30 a.m\n\"Gravity is your friend\"on this m
 ostly downhill roll through the woods with rocky cliffs alongside.  T
 his shaded course will be cool in the hot summer time and great for be
 ginners.  Berkeley Springs is the oldest spa in the USA. Contact:  R
 oad Master Mary Wolfe 304-258-4958 or mwolfe4@frontier.com\n\nFor more
  information visit https://thewildgeese.irish/events/david-powell-5
DTSTART:20130720T050000Z
DTEND:20130721T045900Z
CATEGORIES:irish, road, bowling, -, sport
LOCATION:Cacapon Resort State Park
WEBSITE:http://www.wvirishroadbowling.com
URL:http://www.wvirishroadbowling.com
CONTACT:202 387 1680
ORGANIZER;CN="david powell":https://thewildgeese.irish/profile/davidpo
 well
ATTACH;FMTTYPE="image/jpeg":
ATTENDEE;ROLE=REQ-PARTICIPANT;PARTSTAT=ACCEPTED;RSVP=TRUE;CN="david po
 well":https://thewildgeese.irish/profile/davidpowell
END:VEVENT
END:VCALENDAR
