BEGIN:VCALENDAR
PRODID:NingEventWidget-v1
VERSION:2.0
METHOD:PUBLISH
BEGIN:VEVENT
UID:6442157:Event:17777
DTSTAMP:20260423T214621Z
SUMMARY:david powell
DESCRIPTION:November 3 Stonewall Resort\nYankee Skedaddle, Stonewall J
 ackson Lake State Park, Roanoke, WV\nSunday 1:30PM\nwww.stonewallresor
 t.com\n1 888 278 8150, 304 269 8820\nStonewall Jackson “We see him n
 ow the old slouched hat/ Cocked O’er his eye askew/ The shrewd dry s
 mile, his speech so pat/ So calm, so blunt, so true.” \nGreat Balls
  of Fire! Cannonballs will fly within spittin’ distance of the child
 hood home of Gen’ral Thomas “Stonewall” Jackson. We Skedaddle Ya
 nkees down the 1.3 mile Resort Road along the lake. Easy road for begi
 nners.  Ladies Long Shot after team bowling.\n \n\nFor more informat
 ion visit https://thewildgeese.irish/events/david-powell-16
DTSTART:20131103T050000Z
DTEND:20131104T055900Z
CATEGORIES:irish, road, bowling, -, sport
LOCATION:Stonewall Jackson State Park
WEBSITE:http://www.wvirishroadbowling.com
URL:http://www.wvirishroadbowling.com
CONTACT:202 387 1680
ORGANIZER;CN="david powell":https://thewildgeese.irish/profile/davidpo
 well
ATTACH;FMTTYPE="image/jpeg":
ATTENDEE;ROLE=REQ-PARTICIPANT;PARTSTAT=ACCEPTED;RSVP=TRUE;CN="david po
 well":https://thewildgeese.irish/profile/davidpowell
END:VEVENT
END:VCALENDAR
