BEGIN:VCALENDAR
PRODID:NingEventWidget-v1
VERSION:2.0
METHOD:PUBLISH
BEGIN:VEVENT
UID:6442157:Event:17774
DTSTAMP:20260423T212845Z
SUMMARY:david powell
DESCRIPTION:October 26 Chief Logan State Park, Logan, WV\nSaturday 1:3
 0p.m.\nwww.chiefloganstatepark.com \nThe WVIRBA adds a new sport, Iris
 h Road Bowling, to the rich sports tradition of Logan, West Virginia's
  City of Champions. At 4,000 acre Chief Logan State Park with its outd
 oor amphitheater and wildlife center, you can loft a bowl beneath the 
 statue of Logan, famous Chief of the Cuyoga -Mingo Tribe, or in the fo
 otsteps of Aracoma, legendary Princess of the Shawnees.  Nearby the H
 atfields and McCoys. For info Terry Mullins 304 855 8591, tmullins@chi
 efloganreccenter.org, or Chief Logan State Park 304 792 7125.\n\nFor m
 ore information visit https://thewildgeese.irish/events/david-powell-1
 5
DTSTART:20131026T050000Z
DTEND:20131027T045900Z
CATEGORIES:irish, road, bowling, -, sport
LOCATION:Chief Logan State Park
WEBSITE:http://www.wvirishroadbowling.com
URL:http://www.wvirishroadbowling.com
CONTACT:202 387 1680
ORGANIZER;CN="david powell":https://thewildgeese.irish/profile/davidpo
 well
ATTACH;FMTTYPE="image/jpeg":
ATTENDEE;ROLE=REQ-PARTICIPANT;PARTSTAT=ACCEPTED;RSVP=TRUE;CN="david po
 well":https://thewildgeese.irish/profile/davidpowell
END:VEVENT
END:VCALENDAR
