BEGIN:VCALENDAR
PRODID:NingEventWidget-v1
VERSION:2.0
METHOD:PUBLISH
BEGIN:VEVENT
UID:6442157:Event:17864
DTSTAMP:20260422T210053Z
SUMMARY:Wheeling Hibernians Irish Road Bowling Tournament
DESCRIPTION:September 7 Wheeling Hibernians Irish Road Bowling Tournam
 ent, Wheeling, WV\nhttp://aohwheeling.shutterfly.com\nSaturday 1:00 p.
 m.\nThe Wheeling Hibernians IRB Tournament benefits local charities an
 d is the northern-most event on the WVIRBA Tour circuit. Centrally loc
 ated in the Ohio River Valley, this tournament will be an easy drive f
 rom Pittsburgh or Columbus. Boggs Hill Road. For info contact Craig O'
 Leary 304 242 6196, oleary@redp.org.\n\nFor more information visit htt
 ps://thewildgeese.irish/events/david-powell-10
DTSTART:20130907T050000Z
DTEND:20130908T045900Z
CATEGORIES:irish, road, bowling, -, sport
LOCATION:Boggs Hill Road, Wheeling, West Virginia
WEBSITE:http://www.wvirishroadbowling.com
URL:http://www.wvirishroadbowling.com
CONTACT:202 387 1680
ORGANIZER;CN="david powell":https://thewildgeese.irish/profile/davidpo
 well
ATTACH;FMTTYPE="image/jpeg":
ATTENDEE;ROLE=REQ-PARTICIPANT;PARTSTAT=ACCEPTED;RSVP=TRUE;CN="david po
 well":https://thewildgeese.irish/profile/davidpowell
END:VEVENT
END:VCALENDAR
