BEGIN:VCALENDAR
PRODID:NingEventWidget-v1
VERSION:2.0
METHOD:PUBLISH
BEGIN:VEVENT
UID:6442157:Event:154872
DTSTAMP:20260424T124621Z
SUMMARY:Darkness Into Light (NYC ... and Worldwide)
DESCRIPTION:Start spreading the news… New York hosts Darkness Into
  Light for the very first time this year! In the city that never sleep
 s, there’ll be no need for alarm clocks in the early hours of May 9t
 h with Gaelic Park in the Bronx the venue for what promises to be a mo
 rning to remember in the Big Apple, the place that has opened its arms
  to so many Irish down through the years. For more info, visit http:/
 /www.pietahouse.org\n\nFor more information visit https://thewildgeese
 .irish/events/darkness-into-light-nyc-and-worldwide
DTSTART:20150509T101500Z
DTEND:20150509T130000Z
CATEGORIES:fundraiser
LOCATION:Gaelic Park
WEBSITE:https://www.google.com/maps/place/Gaelic+Park/@40.887666,-73.9
 01628,17z/data=!4m6!1m3!3m2!1s0x89c2f3bb489f65cf:0x5505e23dba46614c!2s
 Gaelic+Park!3m1!1s0x89c2f3bb489f65cf:0x5505e23dba46614c
URL:https://www.google.com/maps/place/Gaelic+Park/@40.887666,-73.90162
 8,17z/data=!4m6!1m3!3m2!1s0x89c2f3bb489f65cf:0x5505e23dba46614c!2sGael
 ic+Park!3m1!1s0x89c2f3bb489f65cf:0x5505e23dba46614c
CONTACT:
ORGANIZER;CN="Pieta House Inc":https://thewildgeese.irish/profile/Piet
 aHouse
ATTACH;FMTTYPE="image/jpeg":http://storage.ning.com/topology/rest/1.0/
 file/get/122504722?profile=original
ATTENDEE;ROLE=REQ-PARTICIPANT;PARTSTAT=ACCEPTED;RSVP=TRUE;CN="Pieta Ho
 use Inc":https://thewildgeese.irish/profile/PietaHouse
END:VEVENT
END:VCALENDAR
