BEGIN:VCALENDAR
PRODID:NingEventWidget-v1
VERSION:2.0
METHOD:PUBLISH
BEGIN:VEVENT
UID:6442157:Event:211470
DTSTAMP:20260423T220919Z
SUMMARY:Daniel P Quinn hosts group at NJPAC on 2/19/17.
DESCRIPTION:>In February 2017, the Orchestre National de Lyon is slate
 d for an appearance in Newark at the NJ Performing Arts Center. With 
 your support via www.fracturedatlas.org, we could include a Spring tou
 r for thosewho might be interested in this Sister City Tie in Paterson
  for  the 21st century. During World War I silk workers from Paterson
  sent money to injured colleagues in Lyon.City Hall in Paterson is an 
 architectural homage to the Hotel-De-Ville in Lyon which was built by 
 French industrialists in Paterson, NJ. The City Hall survived both a m
 ajor Fire and flood. A Jacquard loom in the Paterson Museum as well. T
 here is a chapter in my book Exits & Entrances (www.amazon.com) on Pa
 terson and Lyon while The Zimmerli Museum in New Brunswick has Grand G
 uignol puppets. We might display another event in July.  Tickets @ $5
 0.00 per person for 2/19/17 reserve at 862-208-0151.\n\nFor more infor
 mation visit https://thewildgeese.irish/events/daniel-p-quinn-hosts-gr
 oup-at-njpac-on-2-19-17
DTSTART:20170219T210000Z
DTEND:20170220T000000Z
CATEGORIES:artsprunlimited, inc
LOCATION:NJPAC, Newark, NJ
WEBSITE:
URL:
CONTACT:862-208-0151
ORGANIZER;CN="Daniel P Quinn":https://thewildgeese.irish/profile/Danie
 lPQuinn
ATTACH;FMTTYPE="image/jpeg":http://storage.ning.com/topology/rest/1.0/
 file/get/122516969?profile=original
ATTENDEE;ROLE=REQ-PARTICIPANT;PARTSTAT=ACCEPTED;RSVP=TRUE;CN="Daniel P
  Quinn":https://thewildgeese.irish/profile/DanielPQuinn
END:VEVENT
END:VCALENDAR
