BEGIN:VCALENDAR
PRODID:NingEventWidget-v1
VERSION:2.0
METHOD:PUBLISH
BEGIN:VEVENT
UID:6442157:Event:185272
DTSTAMP:20260425T065547Z
SUMMARY:County Sligo Social & Benevolent Association Annual St. Patric
 k's Dinner Dance
DESCRIPTION:The County Sligo Social & Benevolent Association will hold
  its annual St. Patrick's Dinner Dance once again this year. Our Guest
  of Honor is Bartley Gavin, a resident of County Sligo. Our Sligo Pers
 on of the Year is Kay McGwyne, treasurer of the association, and the J
 oe Flynn Humanitarian Award will be posthumously awarded to the family
  of the late Martin Brett. Martin was a past president of the associat
 ion. For more information, visit our website or email us at sligoassoc
 iationofnewyork@gmail.com.\nTickets are available at our website\nhttp
 ://www.sligoassociationofnewyork.com/\n\nFor more information visit ht
 tps://thewildgeese.irish/events/county-sligo-social-benevolent-associa
 tion-annual-st-patrick-s
DTSTART:20160313T020000Z
DTEND:20160313T070000Z
CATEGORIES:"dinner dance"
LOCATION:Leonard's Palazzo
WEBSITE:http://www.leonardspalazzo.com/
URL:http://www.leonardspalazzo.com/
CONTACT:sligoassociationofnewyork@gmail.com
ORGANIZER:County Sligo Social & Benevolent Association
ATTACH;FMTTYPE="image/jpeg":http://storage.ning.com/topology/rest/1.0/
 file/get/122512545?profile=original
ATTENDEE;ROLE=REQ-PARTICIPANT;PARTSTAT=ACCEPTED;RSVP=TRUE;CN="William 
 Lee":https://thewildgeese.irish/profile/WilliamLee
END:VEVENT
END:VCALENDAR
