BEGIN:VCALENDAR
PRODID:NingEventWidget-v1
VERSION:2.0
METHOD:PUBLISH
BEGIN:VEVENT
UID:6442157:Event:175068
DTSTAMP:20260421T165141Z
SUMMARY:Concern Worldwide Winter Ball
DESCRIPTION:Join Concern Worldwide US on Friday, December 11th for a f
 estive night of inspiration, generosity, and of course, dancing until 
 dawn! Raise a glass to celebrate the work of Concern and to celebrate 
 the impact of your support in 29 of the poorest countries in the world
 .\nThis black-tie evening includes cocktails, live music, gourmet dinn
 er and dancing — and tickets go on sale soon! Don’t forget to mar
 k your calendars and keep an eye on your email for your invitation. We
  can’t wait to see you there!\n \nTo purchase tickets or sponsorshi
 p packages please call Jillian Saperstein at 212.557.8000 or send an 
 email to jillian.saperstein@concern.net.No tickets are officially purc
 hased until confirmed by Jillian via email.\nFor more details, please 
 visit our event page.\nhttp://www.concernusa.org/event/winter-ball/\n\
 nFor more information visit https://thewildgeese.irish/events/concern-
 worldwide-winter-ball
DTSTART:20151212T010000Z
DTEND:20151212T060000Z
CATEGORIES:fundraiser
LOCATION:583 Park Avenue
WEBSITE:https://583parkave.com/
URL:https://583parkave.com/
CONTACT:212.557.8000
ORGANIZER:Concern Worldwide (U.S.) Inc
ATTACH;FMTTYPE="image/jpeg":http://storage.ning.com/topology/rest/1.0/
 file/get/122510742?profile=original
ATTENDEE;ROLE=REQ-PARTICIPANT;PARTSTAT=ACCEPTED;RSVP=TRUE;CN="William 
 Lee":https://thewildgeese.irish/profile/WilliamLee
ATTENDEE;ROLE=REQ-PARTICIPANT;PARTSTAT=TENTATIVE;RSVP=TRUE;CN="Gerry R
 egan":https://thewildgeese.irish/profile/ger_regan
END:VEVENT
END:VCALENDAR
