BEGIN:VCALENDAR
PRODID:NingEventWidget-v1
VERSION:2.0
METHOD:PUBLISH
BEGIN:VEVENT
UID:6442157:Event:45608
DTSTAMP:20260422T155919Z
SUMMARY:Colin Broderick Speaks at Irish Cultural Society Meeting
DESCRIPTION:Colin Broderick will speak about his growing up as a Catho
 lic in Northern Ireland during the Troubles.  Colin has captured his 
 experiences as a teenager in the often violent, sectarian divided comm
 unities in the North in the '60s until the First Friday Agreement.  H
 e will read from his book That's That: A Memoir and take questions. 
  All are welcome.\n\nFor more information visit https://thewildgeese.i
 rish/events/colin-broderick-speaker-at-irish-cultural-society-meeting
DTSTART:20130912T003000Z
DTEND:20130912T020000Z
CATEGORIES:author, reading
LOCATION:Garden City Public Library
WEBSITE:http://www.irish-society.org
URL:http://www.irish-society.org
CONTACT:516.488.1353
ORGANIZER;CN="John M. Walsh":https://thewildgeese.irish/profile/JohnMW
 alsh
ATTACH;FMTTYPE="image/jpeg":http://storage.ning.com/topology/rest/1.0/
 file/get/122479830?profile=original
ATTENDEE;ROLE=REQ-PARTICIPANT;PARTSTAT=ACCEPTED;RSVP=TRUE;CN="John M. 
 Walsh":https://thewildgeese.irish/profile/JohnMWalsh
ATTENDEE;ROLE=REQ-PARTICIPANT;PARTSTAT=TENTATIVE;RSVP=TRUE;CN="Gerry R
 egan":https://thewildgeese.irish/profile/ger_regan
END:VEVENT
END:VCALENDAR
