BEGIN:VCALENDAR
PRODID:NingEventWidget-v1
VERSION:2.0
METHOD:PUBLISH
BEGIN:VEVENT
UID:6442157:Event:60493
DTSTAMP:20260423T150544Z
SUMMARY:Christmas Fundraiser in the Bronx
DESCRIPTION:Annual Christmas Drive Fundraiser at The Fireside Pub on K
 atonah Ave, Woodlawn.  8pm-11pm.  Music by Mickey Coleman & Tom Greg
 ory (of the Knock Climb)!  All proceeds go to aid Irish Political Pri
 soners Dependents!\n\nFor more information visit https://thewildgeese.
 irish/events/christmas-fundraiser-in-the-bronx
DTSTART:20131124T020000Z
DTEND:20131124T050000Z
CATEGORIES:fundraiser
LOCATION:John Mulligan's Fireside Pub
WEBSITE:
URL:
CONTACT:718-601-1550
ORGANIZER;CN="Friends Of Irish Freedom Inc.":https://thewildgeese.iris
 h/profile/FriendsOfIrishFreedomInc
ATTACH;FMTTYPE="image/jpeg":http://storage.ning.com/topology/rest/1.0/
 file/get/122484012?profile=original
ATTENDEE;ROLE=REQ-PARTICIPANT;PARTSTAT=ACCEPTED;RSVP=TRUE;CN="Friends 
 Of Irish Freedom Inc.":https://thewildgeese.irish/profile/FriendsOfIri
 shFreedomInc
END:VEVENT
END:VCALENDAR
