BEGIN:VCALENDAR
PRODID:NingEventWidget-v1
VERSION:2.0
METHOD:PUBLISH
BEGIN:VEVENT
UID:6442157:Event:31970
DTSTAMP:20260423T181206Z
SUMMARY:Chat with Author Caroline Doherty de Novoa
DESCRIPTION:Read more about Caroline and her book, \"Dancing with Stat
 ues,\" here.\nYou can read an excerpt from \"Dancing with Statues\" 
 here.\n** All members of The Wild Geese who participate in the live ch
 at with Caroline by asking a question will be entered into a drawing f
 or one of five copies of \"Dancing with Statues.\" **\n\nFor more info
 rmation visit https://thewildgeese.irish/events/chat-with-author-carol
 ine-doherty-de-novoa
DTSTART:20130722T220000Z
DTEND:20130722T230000Z
CATEGORIES:live, chat
LOCATION:TheWildGeese.com Main Chatroom
WEBSITE:http://www.TheWildGeese.com
URL:http://www.TheWildGeese.com
CONTACT:
ORGANIZER;CN="The Wild Geese":https://thewildgeese.irish/profile/TheWi
 ldGeese
ATTACH;FMTTYPE="image/jpeg":http://storage.ning.com/topology/rest/1.0/
 file/get/122477228?profile=original
ATTENDEE;ROLE=REQ-PARTICIPANT;PARTSTAT=ACCEPTED;RSVP=TRUE;CN="Declan L
 yons":https://thewildgeese.irish/profile/DeclanLyons
ATTENDEE;ROLE=REQ-PARTICIPANT;PARTSTAT=ACCEPTED;RSVP=TRUE;CN="Thomas B
 esore":https://thewildgeese.irish/profile/ThomasBesore
ATTENDEE;ROLE=REQ-PARTICIPANT;PARTSTAT=ACCEPTED;RSVP=TRUE;CN="Patrick 
 Rogan":https://thewildgeese.irish/profile/PatrickRogan
ATTENDEE;ROLE=REQ-PARTICIPANT;PARTSTAT=ACCEPTED;RSVP=TRUE;CN="Irish Ho
 meland Photography":https://thewildgeese.irish/profile/IrishHomelandPh
 otography
ATTENDEE;ROLE=REQ-PARTICIPANT;PARTSTAT=ACCEPTED;RSVP=TRUE;CN=kimberly:
 https://thewildgeese.irish/profile/kimberly
ATTENDEE;ROLE=REQ-PARTICIPANT;PARTSTAT=ACCEPTED;RSVP=TRUE;CN="Tiffany 
 Silverberg":https://thewildgeese.irish/profile/TiffanySilverberg
ATTENDEE;ROLE=REQ-PARTICIPANT;PARTSTAT=ACCEPTED;RSVP=TRUE;CN="Jim Curl
 ey":https://thewildgeese.irish/profile/JimCurley
ATTENDEE;ROLE=REQ-PARTICIPANT;PARTSTAT=ACCEPTED;RSVP=TRUE;CN="Rose Mau
 rer":https://thewildgeese.irish/profile/RoseMaurer
ATTENDEE;ROLE=REQ-PARTICIPANT;PARTSTAT=ACCEPTED;RSVP=TRUE;CN="Gerry Re
 gan":https://thewildgeese.irish/profile/ger_regan
ATTENDEE;ROLE=REQ-PARTICIPANT;PARTSTAT=ACCEPTED;RSVP=TRUE;CN="Catherin
 e White":https://thewildgeese.irish/profile/CatherineWhite
ATTENDEE;ROLE=REQ-PARTICIPANT;PARTSTAT=ACCEPTED;RSVP=TRUE;CN="Ryan O'R
 ourke":https://thewildgeese.irish/profile/RyanORourke
ATTENDEE;ROLE=REQ-PARTICIPANT;PARTSTAT=ACCEPTED;RSVP=TRUE;CN="The Wild
  Geese":https://thewildgeese.irish/profile/TheWildGeese
ATTENDEE;ROLE=REQ-PARTICIPANT;PARTSTAT=TENTATIVE;RSVP=TRUE;CN="Paul Th
 omas Meagher":https://thewildgeese.irish/profile/PaulThomasMeagher
ATTENDEE;ROLE=REQ-PARTICIPANT;PARTSTAT=TENTATIVE;RSVP=TRUE;CN="The Ver
 y Rev Daniel Beegan":https://thewildgeese.irish/profile/TheVeryRevDani
 elBeegan
ATTENDEE;ROLE=REQ-PARTICIPANT;PARTSTAT=TENTATIVE;RSVP=TRUE;CN="David D
 inning":https://thewildgeese.irish/profile/DavidDinning
ATTENDEE;ROLE=REQ-PARTICIPANT;PARTSTAT=TENTATIVE;RSVP=TRUE;CN="Joni Jo
 hnson":https://thewildgeese.irish/profile/JoniJohnson
ATTENDEE;ROLE=REQ-PARTICIPANT;PARTSTAT=TENTATIVE;RSVP=TRUE;CN="Sandy B
 onagura":https://thewildgeese.irish/profile/SandyBonagura
END:VEVENT
END:VCALENDAR
