BEGIN:VCALENDAR
PRODID:NingEventWidget-v1
VERSION:2.0
METHOD:PUBLISH
BEGIN:VEVENT
UID:6442157:Event:173825
DTSTAMP:20260423T000420Z
SUMMARY:Celtic Halloween Festival
DESCRIPTION:\nHALLOWEEN AT O'LUNNEY'S! NO COVER CHARGE! LIVE TRADITION
 AL MUSIC! EVERYONE WELCOME!\n\nFor more information visit https://thew
 ildgeese.irish/events/celtic-halloween-festival
DTSTART:20151101T033000Z
DTEND:20151101T080000Z
CATEGORIES:samhain, "halloween party"
LOCATION:O'Lunney's Time Square Pub
WEBSITE:http://www.olunneys.com/
URL:http://www.olunneys.com/
CONTACT:(212) 840-6688
ORGANIZER:O'Lunney's Time Square Pub
ATTACH;FMTTYPE="image/jpeg":http://storage.ning.com/topology/rest/1.0/
 file/get/122510535?profile=original
ATTENDEE;ROLE=REQ-PARTICIPANT;PARTSTAT=ACCEPTED;RSVP=TRUE;CN="William 
 Lee":https://thewildgeese.irish/profile/WilliamLee
ATTENDEE;ROLE=REQ-PARTICIPANT;PARTSTAT=TENTATIVE;RSVP=TRUE;CN="Gerry R
 egan":https://thewildgeese.irish/profile/ger_regan
END:VEVENT
END:VCALENDAR
