BEGIN:VCALENDAR
PRODID:NingEventWidget-v1
VERSION:2.0
METHOD:PUBLISH
BEGIN:VEVENT
UID:6442157:Event:12463
DTSTAMP:20260425T084156Z
SUMMARY:Celebration of Irish Heritage and Culture
DESCRIPTION:\n\nPlease join us as we present Liam Neesonwith the Thoma
 s Manton Irish Man of the Year Award and Honor Performance by the Cast
  of \"Once\" -- Tony and Grammy Award Winning Broadway Musical; Depu
 ty Chief James McGovern, New York City Department of Sanitation; Pete
 r J.F. Meijer, Team Rubicon, Irish Day of Action to be accepted by S
 iobhan Dennehy, Executive Director Emerald Isle Immigration Center.  R
 SVP to 212.788.9107 or eventscoordinator@council.nyc.gov by Noon on Fr
 iday, March 15th, 2013 Irish Heritage and Culture\n\n\n\n\n\nFor more 
 information visit https://thewildgeese.irish/events/celebration-of-iri
 sh-heritage-and-culture
DTSTART:20130319T000000Z
DTEND:20130319T020000Z
CATEGORIES:celebration
LOCATION:City Council Chambers
WEBSITE:http://www.facebook.com/events/498554326848645/
URL:http://www.facebook.com/events/498554326848645/
CONTACT:
ORGANIZER:Members of the New York City Council
ATTACH;FMTTYPE="image/jpeg":http://storage.ning.com/topology/rest/1.0/
 file/get/122473253?profile=original
ATTENDEE;ROLE=REQ-PARTICIPANT;PARTSTAT=ACCEPTED;RSVP=TRUE;CN="Gerry Re
 gan":https://thewildgeese.irish/profile/ger_regan
END:VEVENT
END:VCALENDAR
