BEGIN:VCALENDAR
PRODID:NingEventWidget-v1
VERSION:2.0
METHOD:PUBLISH
BEGIN:VEVENT
UID:6442157:Event:76725
DTSTAMP:20260421T064008Z
SUMMARY:Celebrate Irish Arts
DESCRIPTION:Saturday, March 8 marks the Fifth Annual Celebrate Irish A
 rts day on Long Beach Island. This free event draws hundreds to the Je
 rsey Shore for a day of music and other entertainment by local and reg
 ional artists, as well as authentic Irish baked goods, coffee, tea etc
 ..\n\nFor more information visit https://thewildgeese.irish/events/cel
 ebrate-irish-arts
DTSTART:20140308T160000Z
DTEND:20140308T220000Z
CATEGORIES:free, entertainment, art, exhibit, food
LOCATION:Maris Stella Conference Center
WEBSITE:
URL:
CONTACT:
ORGANIZER:Amergael  and the Long Beach Island Library
ATTACH;FMTTYPE="image/jpeg":
ATTENDEE;ROLE=REQ-PARTICIPANT;PARTSTAT=ACCEPTED;RSVP=TRUE;CN="Geraldin
 e Callaghan":https://thewildgeese.irish/profile/GeraldineCallaghan
ATTENDEE;ROLE=REQ-PARTICIPANT;PARTSTAT=ACCEPTED;RSVP=TRUE;CN="Jim Curl
 ey":https://thewildgeese.irish/profile/JimCurley
END:VEVENT
END:VCALENDAR
