BEGIN:VCALENDAR
PRODID:NingEventWidget-v1
VERSION:2.0
METHOD:PUBLISH
BEGIN:VEVENT
UID:6442157:Event:145683
DTSTAMP:20260420T153818Z
SUMMARY:Celebrate Irish Arts
DESCRIPTION:Amergael's Sixth Annual Irish Arts will be held on Saturda
 y, February 28 at Maris Stella Conference Center, Harvey Cedars, Long 
 Beach Island, New Jersey. The event, which features Irish and Irish Am
 erican song, dance and art, is free and open to the public.Hours are 1
 1 a.m. to 4 p.m.\n\nFor more information visit https://thewildgeese.ir
 ish/events/celebrate-irish-arts-1
DTSTART:20150228T170000Z
DTEND:20150228T220000Z
CATEGORIES:"green out those winter blues"
LOCATION:Harvey Cedars, NJ
WEBSITE:
URL:
CONTACT:
ORGANIZER:Amergael Irish-American Club
ATTACH;FMTTYPE="image/jpeg":http://storage.ning.com/topology/rest/1.0/
 file/get/122502337?profile=original
ATTENDEE;ROLE=REQ-PARTICIPANT;PARTSTAT=ACCEPTED;RSVP=TRUE;CN="Geraldin
 e Callaghan":https://thewildgeese.irish/profile/GeraldineCallaghan
ATTENDEE;ROLE=REQ-PARTICIPANT;PARTSTAT=ACCEPTED;RSVP=TRUE;CN="Jim Curl
 ey":https://thewildgeese.irish/profile/JimCurley
END:VEVENT
END:VCALENDAR
