BEGIN:VCALENDAR
PRODID:NingEventWidget-v1
VERSION:2.0
METHOD:PUBLISH
BEGIN:VEVENT
UID:6442157:Event:164533
DTSTAMP:20260422T010917Z
SUMMARY:Catskills Irish Arts Festival
DESCRIPTION:The festival, held after a week of classes, highlights the
  talents of the teachers of the courses. It is held at East Durham, Ne
 w York in the Irish Catskills and is a great afternoon of trad Irish m
 usic and dance.\n\nFor more information visit https://thewildgeese.iri
 sh/events/catskills-irish-arts-festival
DTSTART:20150718T050000Z
DTEND:20150719T045900Z
CATEGORIES:all-day, concert
LOCATION:East Durham, New York
WEBSITE:
URL:
CONTACT:
ORGANIZER:
ATTACH;FMTTYPE="image/jpeg":
ATTENDEE;ROLE=REQ-PARTICIPANT;PARTSTAT=ACCEPTED;RSVP=TRUE;CN="Jim Curl
 ey":https://thewildgeese.irish/profile/JimCurley
END:VEVENT
END:VCALENDAR
