BEGIN:VCALENDAR
PRODID:NingEventWidget-v1
VERSION:2.0
METHOD:PUBLISH
BEGIN:VEVENT
UID:6442157:Event:26495
DTSTAMP:20260422T062548Z
SUMMARY:Butcher a Hog
DESCRIPTION:Official press release;  June 19th\n\nFor more informatio
 n visit https://thewildgeese.irish/events/butcher-a-hog
DTSTART:20130619T050000Z
DTEND:20130620T045900Z
CATEGORIES:press, release
LOCATION:Web
WEBSITE:http://www.butcherahog.com
URL:http://www.butcherahog.com
CONTACT:516 375 4901
ORGANIZER;CN="Brian O'Sullivan":https://thewildgeese.irish/profile/Bri
 anOSullivan
ATTACH;FMTTYPE="image/jpeg":
ATTENDEE;ROLE=REQ-PARTICIPANT;PARTSTAT=ACCEPTED;RSVP=TRUE;CN="Brian O'
 Sullivan":https://thewildgeese.irish/profile/BrianOSullivan
ATTENDEE;ROLE=REQ-PARTICIPANT;PARTSTAT=ACCEPTED;RSVP=TRUE;CN="Gerry Re
 gan":https://thewildgeese.irish/profile/ger_regan
END:VEVENT
END:VCALENDAR
