BEGIN:VCALENDAR
PRODID:NingEventWidget-v1
VERSION:2.0
METHOD:PUBLISH
BEGIN:VEVENT
UID:6442157:Event:40402
DTSTAMP:20260424T023929Z
SUMMARY:Buffalo Irish Festival
DESCRIPTION:The 32nd Annual Buffalo Irish Festival will be held at the
  historic CANALSIDE, August 23-25 in Downtown Buffalo. The annual cult
 ural festival features Irish music, dance, food and beverages.\n\nThis
  year’s festival will be back downtown this year at CANALSIDE and wi
 ll feature three stages of continuous Irish entertainment from the U.S
 ., Canada and Ireland. \nThe festival will also include:• A kick-of
 f parade featuring flags from the 32 counties in Ireland around Niagar
 a Square.• Traditional Irish music, folk music, step and set-dancing
 • An original historic theater production from O’Connell & Company
 • Genealogy experts• Exclusively Irish goods and crafts from nearl
 y 30 individual vendors• Irish authors and book signings• Traditio
 nal Irish foods and beveragesFestival hours: Friday, August 23 --- 5p
 m-11pmSaturday, August 24 --- Noon-11pmSunday, August 25 --- Noon-9pmA
 dmission: $10 adults, $8 children 4-12 and seniors (children under 4 a
 re free). Admission prices are subject to change...Presale tickets wil
 l be available at the Shannon Pub, Buffalo Brew Pub, Darcy McGee’s a
 nd Tara Gift Shoppe, as well as all Wegman's stores.\n\n\nFor more inf
 ormation visit https://thewildgeese.irish/events/buffalo-irish-festiva
 l
DTSTART:20130823T220000Z
DTEND:20130826T020000Z
CATEGORIES:festival
LOCATION:Canalside
WEBSITE:
URL:
CONTACT:http://www.buffaloirish.com
ORGANIZER;CN="Ryan O'Rourke":https://thewildgeese.irish/profile/RyanOR
 ourke
ATTACH;FMTTYPE="image/jpeg":http://storage.ning.com/topology/rest/1.0/
 file/get/122479223?profile=original
END:VEVENT
END:VCALENDAR
