BEGIN:VCALENDAR
PRODID:NingEventWidget-v1
VERSION:2.0
METHOD:PUBLISH
BEGIN:VEVENT
UID:6442157:Event:228823
DTSTAMP:20260420T171150Z
SUMMARY:Bobby McGuire
DESCRIPTION:On Fri March 30th the FDNY Bravest boxing Team will host t
 he Garda Siochana Boxing Club of the Irish National Police Service for
  the 2018 Transatlantic Championship.. This charity boxing event will 
 take place at Terminal 5 located at 610 W 56th Street in NYC. There ar
 e 12 bouts scheduled between the departments who have meet six times i
 n the past with each winning 3.\nProceeds from this event will benefit
  Building Homes for Heroes. This organization builds mortgage free, ha
 ndicap accessible homes for our veterans returning home with severe in
 juries.\nIt's an exciting night of boxing for a great cause at an incr
 edible venue. There are sure to be many former and current boxing grea
 ts in attendance and a special performance by the FDNY Emerald Society
  Pipe & Drum Band.\nTickets cost $30 for general admission and $50 for
  VIP ringside. They are available at www.fdnyboxing.com\n\n\nFor more 
 information visit https://thewildgeese.irish/events/bobby-mcguire
DTSTART:20180331T000000Z
DTEND:20180331T030000Z
CATEGORIES:boxing
LOCATION:Terminal 5, NYC
WEBSITE:
URL:
CONTACT:
ORGANIZER;CN="Bobby McGuire":https://thewildgeese.irish/profile/BobbyM
 cGuire
ATTACH;FMTTYPE="image/jpeg":http://storage.ning.com/topology/rest/1.0/
 file/get/122519646?profile=original
ATTENDEE;ROLE=REQ-PARTICIPANT;PARTSTAT=ACCEPTED;RSVP=TRUE;CN="Bobby Mc
 Guire":https://thewildgeese.irish/profile/BobbyMcGuire
ATTENDEE;ROLE=REQ-PARTICIPANT;PARTSTAT=TENTATIVE;RSVP=TRUE;CN="Gerry R
 egan":https://thewildgeese.irish/profile/ger_regan
END:VEVENT
END:VCALENDAR
