BEGIN:VCALENDAR
PRODID:NingEventWidget-v1
VERSION:2.0
METHOD:PUBLISH
BEGIN:VEVENT
UID:6442157:Event:46628
DTSTAMP:20260422T173637Z
SUMMARY:Belfast to Boston
DESCRIPTION:“Belfast to Boston” with Colin Broderick & Michael Pat
 rick Macdonald  Thursday September 12, 7pm at the American Irish His
 torical Society, 5 Avenue and 80 Street - Free Admission. As part of 
 ORIGIN’S 1st IRISH 2013, NY’S ANNUAL FESTIVAL OF IRISH THEATRE, 
 two magical writers embark on an evening of truth telling from A Fami
 ly Story from Southie, Michael Patrick MacDonald's recounts the guile
 less and powerful memories of a precarious life in a Boston ghetto as 
 Colin Broderick renders the conflict in the North of Ireland with an i
 ntimacy and honesty in That’s That.\n\n\n\n\n\nFor more information
  visit https://thewildgeese.irish/events/belfast-to-boston-1
DTSTART:20130913T000000Z
DTEND:20130913T020000Z
CATEGORIES:book, reading
LOCATION:American Irish Historical Society
WEBSITE:
URL:
CONTACT:
ORGANIZER:American Irish Historical Society
ATTACH;FMTTYPE="image/jpeg":
ATTENDEE;ROLE=REQ-PARTICIPANT;PARTSTAT=ACCEPTED;RSVP=TRUE;CN="Sandy Bo
 yer":https://thewildgeese.irish/profile/SandyBoyer
END:VEVENT
END:VCALENDAR
