BEGIN:VCALENDAR
PRODID:NingEventWidget-v1
VERSION:2.0
METHOD:PUBLISH
BEGIN:VEVENT
UID:6442157:Event:172766
DTSTAMP:20260420T043727Z
SUMMARY:\"Assisted Emigration\" at Irish Cultural Society
DESCRIPTION:ASSISTED EMIGRATION TOPIC AT IRISH MEETING\n \nThose who 
 assisted the poor Irish to emigrate to other countries are usually tho
 ught of as charitable and unselfish.  However, there is more to the s
 ubject than may appear on the surface.  The subject of “Assisted Em
 igration” will be the topic at the Irish Cultural Society meeting on
  Wednesday, November 11 at 7:30 p.m.  The meeting will be held in the
  Garden City Library, 60 Seventh Street, across the street from the Ga
 rden City Hotel.  The meeting is free and open to the public.\n \nTh
 e president of the Irish Cultural Society, Clare Curtin, will be the g
 uest speaker at the meeting.    Clare has spoken on the topic of 
 Assisted Emigration” both at universities locally and at venues in 
 Ireland.  The mass emigration from Ireland is part of Irish heritage.
   Less well known is the motivation of the individuals and institutio
 ns which made emigration feasible for poor Irish.  What were the moti
 ves for assisting the poor Irish to leave Ireland?  Clare’s researc
 h has discovered many surprising answers to that question.\n \nClare 
 Curtin is one of those rare individuals who has succeeded in one of th
 e most daunting undertakings among the Irish—the study of the Irish 
 language.  She is so proficient in Irish that she teaches the languag
 e.  Over the years Clare has brought to the Garden City Library stage
  many scholars, like Joe Lee and Terry Golway, through her connections
  to the Irish Roundtable and Glucksman Ireland House at NYU.  Her tal
 k is another contribution of the many which Clare Curtin has made to t
 he Irish Cultural Society.\n\nFor more information visit https://thewi
 ldgeese.irish/events/assisted-emigration-at-irish-cultural-society
DTSTART:20151112T013000Z
DTEND:20151112T030000Z
CATEGORIES:lecture
LOCATION:Garden City Library
WEBSITE:http://Irish-society.org
URL:http://Irish-society.org
CONTACT:516.488.1353
ORGANIZER;CN="John M. Walsh":https://thewildgeese.irish/profile/JohnMW
 alsh
ATTACH;FMTTYPE="image/jpeg":http://storage.ning.com/topology/rest/1.0/
 file/get/122509546?profile=original
ATTENDEE;ROLE=REQ-PARTICIPANT;PARTSTAT=ACCEPTED;RSVP=TRUE;CN="Gerry Re
 gan":https://thewildgeese.irish/profile/ger_regan
ATTENDEE;ROLE=REQ-PARTICIPANT;PARTSTAT=ACCEPTED;RSVP=TRUE;CN="John M. 
 Walsh":https://thewildgeese.irish/profile/JohnMWalsh
END:VEVENT
END:VCALENDAR
