BEGIN:VCALENDAR
PRODID:NingEventWidget-v1
VERSION:2.0
METHOD:PUBLISH
BEGIN:VEVENT
UID:6442157:Event:49037
DTSTAMP:20260422T155812Z
SUMMARY:Aer Lingus International Hurling Festival
DESCRIPTION:\nAer Lingus is inviting teams from all over the world to
  compete in the first ever International Hurling Festival. The best hu
 rlers from the USA, South America, Canada, the UK, Continental Europe,
  the Middle East and Australia will descend on Galway for a three-day 
 festival of ceol, craic and culture, as well as the first hurling comp
 etition of its kind. The tournament will feature sixteen International
  teams competing in four groups of four, with the eventual winners cro
 wned in Galway’s legendary Pearse Stadium. In support of The Gatheri
 ng, Aer Lingus want to bring hurling fans from all over the world hom
 e to celebrate our national game in what promises to be one of the mos
 t unique and exciting sporting events of 2013.\nTeams will be hosted i
 n Loughrea, Gort, Ballinasloe and Galway West. Qualifying games will t
 ake place on Thursday 19th and Friday 20th September with the final ta
 king place in Pearse Stadium on Saturday the 21st of September.\n\nFor
  more information visit https://thewildgeese.irish/events/aer-lingus-i
 nternational-hurling-festival
DTSTART:20130919T190000Z
DTEND:20130921T230000Z
CATEGORIES:sports, tournament
LOCATION:Various venues in County Galway
WEBSITE:http://www.hurlingfestival.com
URL:http://www.hurlingfestival.com
CONTACT:
ORGANIZER;CN="Ryan O'Rourke":https://thewildgeese.irish/profile/RyanOR
 ourke
ATTACH;FMTTYPE="image/jpeg":http://storage.ning.com/topology/rest/1.0/
 file/get/122480353?profile=original
ATTENDEE;ROLE=REQ-PARTICIPANT;PARTSTAT=ACCEPTED;RSVP=TRUE;CN="Ryan O'R
 ourke":https://thewildgeese.irish/profile/RyanORourke
END:VEVENT
END:VCALENDAR
