BEGIN:VCALENDAR
PRODID:NingEventWidget-v1
VERSION:2.0
METHOD:PUBLISH
BEGIN:VEVENT
UID:6442157:Event:22404
DTSTAMP:20260422T062641Z
SUMMARY:About Augustus Saint Gaudens
DESCRIPTION:Walking past the Society on Fifth Avenue, or walking into 
 the lobby, one can't help but notice a marble bust of a man, looking o
 ut toward the street. He is Charles O'Conor, and the man who created h
 is portrait was Augustus Saint-Gaudens (1848-1907), America's premier 
 sculptor of the Gilded Age. Society members are invited to come June 1
 9, 2013 from 7-8 pm to learn more about Saint-Gaudens, a Dublin-born a
 rtist who was also one of the founders of the American Irish Historica
 l Society. Known for his Civil War monuments of Admiral Farragut in Ma
 dison Park and General Sherman in the Grand Army Plaza, Saint-Gaudens 
 also sculpted the Parnell Monument on O 'Connell Street in Dublin.  R
 ick Kendall, Superintendent, and Henry J. Duffy, Curator of the Sain
 t-Gaudens National Historic Site will be joined by noted American scul
 ptor Lawrence J. Nowlanto introduce this great Irish-American sculpto
 r.\nADMISSION: FREE & OPEN to the Public with Reservations\n\n\nFor m
 ore information visit https://thewildgeese.irish/events/about-augustus
 -saint-gaudens
DTSTART:20130620T000000Z
DTEND:20130620T010000Z
CATEGORIES:art, history, talk
LOCATION:American Irish Historical Society
WEBSITE:http://www.aihs.org/American_Irish_Historical_Society/Future_E
 vents.html
URL:http://www.aihs.org/American_Irish_Historical_Society/Future_Event
 s.html
CONTACT:212-288-2263
ORGANIZER:American Irish Historical Society
ATTACH;FMTTYPE="image/jpeg":http://storage.ning.com/topology/rest/1.0/
 file/get/122475256?profile=original
ATTENDEE;ROLE=REQ-PARTICIPANT;PARTSTAT=ACCEPTED;RSVP=TRUE;CN="Gerry Re
 gan":https://thewildgeese.irish/profile/ger_regan
END:VEVENT
END:VCALENDAR
