BEGIN:VCALENDAR
PRODID:NingEventWidget-v1
VERSION:2.0
METHOD:PUBLISH
BEGIN:VEVENT
UID:6442157:Event:173649
DTSTAMP:20260420T122122Z
SUMMARY:A Vintage Holiday with Tara O'Grady and The Kennedys
DESCRIPTION:A Vintage Holiday with Tara O'Grady and The Kennedys  50's
  and 60's music and fashion combine for a classic New York Holiday sho
 w. Think \"The Ronettes meet Billie Holiday at Macy's\"!  Imagine the 
 night before Christmas in 1957 with Elvis, Patsy Cline and Buddy Holly
 ...  Seating is limited. $20 per person.  Call 516-488-2180 to reserve
  table.   Swing the Teapot 6 Verbena Avenue Floral Park, NY 11001 LIRR
  stops directly across street at Floral Park Station. http://swingthet
 eapot.squarespace.com/journal/\n\nFor more information visit https://t
 hewildgeese.irish/events/a-vintage-holiday-with-tara-o-grady-and-the-k
 ennedys
DTSTART:20151220T030000Z
DTEND:20151220T060000Z
CATEGORIES:"musical performance"
LOCATION:Swing the Teapot
WEBSITE:http://swingtheteapot.squarespace.com/
URL:http://swingtheteapot.squarespace.com/
CONTACT:516-488-2180
ORGANIZER:Tara O'Grady
ATTACH;FMTTYPE="image/jpeg":http://storage.ning.com/topology/rest/1.0/
 file/get/122510572?profile=original
ATTENDEE;ROLE=REQ-PARTICIPANT;PARTSTAT=ACCEPTED;RSVP=TRUE;CN="William 
 Lee":https://thewildgeese.irish/profile/WilliamLee
ATTENDEE;ROLE=REQ-PARTICIPANT;PARTSTAT=TENTATIVE;RSVP=TRUE;CN="Gerry R
 egan":https://thewildgeese.irish/profile/ger_regan
END:VEVENT
END:VCALENDAR
