BEGIN:VCALENDAR
PRODID:NingEventWidget-v1
VERSION:2.0
METHOD:PUBLISH
BEGIN:VEVENT
UID:6442157:Event:233572
DTSTAMP:20260420T185200Z
SUMMARY:A Rare Time for Death in Ireland: Sean O'Casey and 1916 Rising
DESCRIPTION:Join us for this special event at which visiting historian
  from Dublin's East Wall History Group, Joe Mooney, will give his talk
  \"A Rare Time for Death in Ireland: Sean O'Casey and the 1916 Rising\
 "\n\nFor more information visit https://thewildgeese.irish/events/a-ra
 re-time-for-death-in-ireland-sean-o-casey-and-1916-rising
DTSTART:20180711T010000Z
DTEND:20180711T020000Z
CATEGORIES:talk
LOCATION:Rocky Sullivan's 46 Beard Street Red Hook
WEBSITE:https://www.facebook.com/events/122102678662336/
URL:https://www.facebook.com/events/122102678662336/
CONTACT:
ORGANIZER:Hosted by John Kearns
ATTACH;FMTTYPE="image/jpeg":http://storage.ning.com/topology/rest/1.0/
 file/get/122519970?profile=original
ATTENDEE;ROLE=REQ-PARTICIPANT;PARTSTAT=ACCEPTED;RSVP=TRUE;CN="Nollaig 
 2016":https://thewildgeese.irish/profile/BelindaEvangelista
END:VEVENT
END:VCALENDAR
