BEGIN:VCALENDAR
PRODID:NingEventWidget-v1
VERSION:2.0
METHOD:PUBLISH
BEGIN:VEVENT
UID:6442157:Event:171041
DTSTAMP:20260421T074941Z
SUMMARY:1st Irish Theatre Festival Awards Ceremony
DESCRIPTION:The Origin Theatre Company and it's \"1st Irish\" Theatre 
 Festival will be hosting its 2015 Awards Ceremony on Monday, September
  28, 2015 at the Scandinavia House. The event will be co-hosted by Iri
 sh Actress and Director Geraldine Hughes. The Irish Business Organizat
 ion of New York will be presenting Irish Business Organization 1st Iri
 sh Breaking Ground Award for New Play Wrighting. It'll be a great nigh
 t as the 1st Irish Theatre Festival enters its Final Week.  Please RSV
 P to info@origintheatre.org  Monday, September 28, 2015  Complimentary
  Reception starts at 7 pm and the Awards Ceremony starts at 7:30 pm.  
 Scandanvaia House  58 Park Ave (Between 37th and 38th)  New York, NY 1
 0016 http://1stirish.org/\n\nFor more information visit https://thewil
 dgeese.irish/events/1st-irish-theatre-festival-awards-ceremony
DTSTART:20150929T000000Z
DTEND:20150929T020000Z
CATEGORIES:awards, ceremony
LOCATION:Scandanavia House
WEBSITE:https://www.google.com/maps/place/Scandinavia+House/@40.749426
 6,-73.9800243,17z/data=!3m1!4b1!4m2!3m1!1s0x89c25906d62106ed:0xd20d74f
 e06810442
URL:https://www.google.com/maps/place/Scandinavia+House/@40.7494266,-7
 3.9800243,17z/data=!3m1!4b1!4m2!3m1!1s0x89c25906d62106ed:0xd20d74fe068
 10442
CONTACT:212-253-8300
ORGANIZER:Origin Theatre Company
ATTACH;FMTTYPE="image/jpeg":http://storage.ning.com/topology/rest/1.0/
 file/get/122509312?profile=original
ATTENDEE;ROLE=REQ-PARTICIPANT;PARTSTAT=ACCEPTED;RSVP=TRUE;CN="William 
 Lee":https://thewildgeese.irish/profile/WilliamLee
END:VEVENT
END:VCALENDAR
