BEGIN:VCALENDAR
PRODID:NingEventWidget-v1
VERSION:2.0
METHOD:PUBLISH
BEGIN:VEVENT
UID:6442157:Event:185173
DTSTAMP:20260425T084639Z
SUMMARY:137th Annual Mayo Society of New York St. Patrick's Ball
DESCRIPTION:Join the New York Mayo Society on Saturday March 12, 2016 
 to Celebrate their 137th Annual St. Patrick's Ball.\n Music provided b
 y The New York Showband and the Honorees are Mary McNulty and Francis 
 McLoughlin.\n For ticket information contact Mary Lydon (917)974-4871\
 nhttp://www.mayosocietyofny.org/\n\nFor more information visit https:/
 /thewildgeese.irish/events/137th-annual-mayo-society-of-new-york-st-pa
 trick-s-ball
DTSTART:20160313T010000Z
DTEND:20160313T070000Z
CATEGORIES:ball
LOCATION:Antun's of Queen's Village
WEBSITE:http://antuns.com/
URL:http://antuns.com/
CONTACT:(917)974-4871
ORGANIZER:The Mayo Society of New York
ATTACH;FMTTYPE="image/jpeg":http://storage.ning.com/topology/rest/1.0/
 file/get/122512625?profile=original
ATTENDEE;ROLE=REQ-PARTICIPANT;PARTSTAT=ACCEPTED;RSVP=TRUE;CN="William 
 Lee":https://thewildgeese.irish/profile/WilliamLee
END:VEVENT
END:VCALENDAR
